BEGIN:VCALENDAR
VERSION:2.0
PRODID:-//FDC 57 / FDIDS 57//NONSGML kigkonsult.se iCalcreator 2.30.10//
CALSCALE:GREGORIAN
METHOD:PUBLISH
UID:2b7bd530-6423-4727-b752-06c7a9c64769
X-WR-CALNAME:iCagenda
X-WR-CALDESC:Event Management Extension for Joomla!
X-WR-RELCALID:3E26604A-50F4-4449-8B3E-E4F4932D05B5
X-WR-TIMEZONE:Europe/Paris
BEGIN:VTIMEZONE
TZID:Europe/Paris
BEGIN:STANDARD
TZNAME:CET
DTSTART:20251026T030000
TZOFFSETFROM:+0200
TZOFFSETTO:+0100
RDATE:20261025T030000
END:STANDARD
BEGIN:DAYLIGHT
TZNAME:CEST
DTSTART:20250330T020000
TZOFFSETFROM:+0100
TZOFFSETTO:+0200
RDATE:20260329T020000
RDATE:20270328T020000
END:DAYLIGHT
END:VTIMEZONE
BEGIN:VEVENT
UID:de72c3ac-4126-48ca-97cb-362713b08839
DTSTAMP:20260424T165839Z
CATEGORIES:EVENEMENT FDC 57
CLASS:PUBLIC
DESCRIPTION;ALTREP="CID:<FFFF__=0ABBE548DFE235B58f9e8a93d@coffeebean.com>":
 \nânâaime la Nature Propre (JLNP) est une opĂ©ration participative et citoyen
 ne de&nbsp\;ramassage des dĂ©chets dans la nature&nbsp\;Ă  lâ€™initiative de l
 a FĂ©dĂ©ration Nationale des Chasseurs (FNC) et financĂ© par lâ€™Office FranĂ§ai
 s de la biodiversitĂ© (OFB) via le dispositif&nbsp\;Ă©cocontribution. Cette 
 initiative se dĂ©roule le temps dâ€™un week-end dans de nombreuses communes e
 n France en mobilisant les citoyens bĂ©nĂ©voles soucieux de leur environneme
 nt et qui agissent pour prĂ©server et nettoyer la nature.\nLâ€™opĂ©ration jâ€™ai
 me la nature propre en Moselle (collecte des dĂ©chets) aura lieu du 14 au d
 imanche 16 mars 2025.\nVous ĂŞtes intĂ©ressĂ© par lâ€™Ă©vĂ©nement&nbsp\;? Contact
 ez-nous au 03 87 75 82 82 / &nbsp\;oschoenstein@fdc57.org\nTrouvez lâ€™opĂ©ra
 tion de votre secteur en cliquant sur le lien ci-dessous&nbsp\;:\n&nbsp\;h
 ttps://www.jaimelanaturepropre.fr/participer/
DTSTART:20260306T073700Z
DTEND:20260308T073700Z
GEO:00;0
LOCATION:Moselle
ORGANIZER;CN=:oschoenstein@fdc57.org
SEQUENCE:1
SUMMARY:OpĂ©ration J'aime la Nature Propre
TRANSP:OPAQUE
URL:https://www.fdc57.org/index.php/component/icagenda/104-operation-jaime-
 la-nature-propre?Itemid=101
END:VEVENT
END:VCALENDAR
